BEGIN:VCALENDAR
VERSION:2.0
PRODID:-//wp-events-plugin.com//7.2.3.1//EN
TZID:America/New_York
X-WR-TIMEZONE:America/New_York
BEGIN:VEVENT
UID:876@clevelandphoto.org
DTSTART;TZID=America/New_York:20260102T191500
DTEND;TZID=America/New_York:20260102T220000
DTSTAMP:20251214T103835Z
URL:https://www.clevelandphoto.org/events/broadcast-by-joe-edelman-the-clu
 b-will-be-open/
SUMMARY:Broadcast by Joe Edelman-The Club will be open
DESCRIPTION:The very popular and accomplished Joe Edelman will give a prese
 ntation entitled "Practical Composition."  Ring in the CPS New Year by co
 ming to the clubhouse to enjoy not only Joe\, but also catch up with your 
 fellow photographers\, and enjoy our world-famous popcorn.
END:VEVENT
BEGIN:VTIMEZONE
TZID:America/New_York
X-LIC-LOCATION:America/New_York
BEGIN:STANDARD
DTSTART:20251102T010000
TZOFFSETFROM:-0400
TZOFFSETTO:-0500
TZNAME:EST
END:STANDARD
END:VTIMEZONE
END:VCALENDAR