BEGIN:VCALENDAR
VERSION:2.0
PRODID:-//wp-events-plugin.com//7.2.3.1//EN
TZID:America/New_York
X-WR-TIMEZONE:America/New_York
BEGIN:VEVENT
UID:260@clevelandphoto.org
DTSTART;TZID=America/New_York:20240119T193000
DTEND;TZID=America/New_York:20240119T200000
DTSTAMP:20240118T213629Z
URL:https://www.clevelandphoto.org/events/bodies-lenses-and-flashes-oh-my/
SUMMARY:Bodies\, lenses and flashes.. oh\, my! - CANCELED DUE TO WEATHER
DESCRIPTION:"Bodies\, Lenses\, and Flashes .... Oh\, My!"\n\nJoin our own E
 ric Wethington for some enlightening talk of what is new in the gear world
 . I am sure Eric will bring his knowledge and gear that will amaze and del
 ight you.\n\nProduct samples will include some of the latest from Canon\, 
 Nikon\, Sony\, Panasonic\, Fuji\, Pentax and OM systems cameras\, as well 
 as lenses from Tamron and Sigma. Flashes from FJWestcott\, Godox\, and pos
 sible on camera video lights from ProMaster and Phottix\,\n\n\n\n&nbsp\;\n
 \n
END:VEVENT
BEGIN:VTIMEZONE
TZID:America/New_York
X-LIC-LOCATION:America/New_York
BEGIN:STANDARD
DTSTART:20231105T010000
TZOFFSETFROM:-0400
TZOFFSETTO:-0500
TZNAME:EST
END:STANDARD
END:VTIMEZONE
END:VCALENDAR