BEGIN:VCALENDAR
VERSION:2.0
PRODID:-//wp-events-plugin.com//7.2.3.1//EN
TZID:America/New_York
X-WR-TIMEZONE:America/New_York
BEGIN:VEVENT
UID:714@clevelandphoto.org
DTSTART;TZID=America/New_York:20250725T193000
DTEND;TZID=America/New_York:20250725T200000
DTSTAMP:20250526T203312Z
URL:https://www.clevelandphoto.org/events/bob-b-kowaleski/
SUMMARY:"What I saw on Route 66" - Bob Kowaleski Photographer
DESCRIPTION:"What I saw on Route 66" - Bob Kowaleski Photographer\n&nbsp\;\
 nBob will be our speaker before the print competition. His presentation\, 
 titled “What I Saw on Route 66\,” will showcase his journey along the 
 historic highway. He also encourages others to share their own Route 66 ex
 periences.
END:VEVENT
BEGIN:VTIMEZONE
TZID:America/New_York
X-LIC-LOCATION:America/New_York
BEGIN:DAYLIGHT
DTSTART:20250309T030000
TZOFFSETFROM:-0500
TZOFFSETTO:-0400
TZNAME:EDT
END:DAYLIGHT
END:VTIMEZONE
END:VCALENDAR