BEGIN:VCALENDAR
VERSION:2.0
PRODID:-//wp-events-plugin.com//7.2.3.1//EN
TZID:America/New_York
X-WR-TIMEZONE:America/New_York
BEGIN:VEVENT
UID:335@clevelandphoto.org
DTSTART;TZID=America/New_York:20240414T100000
DTEND;TZID=America/New_York:20240414T120000
DTSTAMP:20240325T213459Z
URL:https://www.clevelandphoto.org/events/bo-railroad-field-trip/
SUMMARY:Field Trip - B&O Railroad
DESCRIPTION:Itinerary: CPS has been invited by the staff of the non-profit
  Midwest Railway Preservation Society (MRPS) to return to a jewel in railr
 oading history in the heart of Cleveland - the historic B &amp\; O Rail Y
 ard and Roundhouse!\nDuring this trip\, you'll be able to see and photogra
 ph engines and rail cars in various states of restoration\, including the 
 historic 4070 Steam Engine\, the restored Pullman car used in the movie Th
 e Natural and the infamous 'death car'\, among many others. If you likerai
 lroading\, history\, intricate details or simply like to let your creativi
 ty lead you down new paths\, then this is a trip you'll enjoy!\n&nbsp\;\n\
 nWho: Open to club members and guests ONLY. Cash $10 at the gate to enter.
 \n\n&nbsp\;\n\nEquipment: Camera. Various interchangeable lens including w
 ide-angle or multi-purpose zoom lens\, tripod and flashes ARE permitted.\n
 \n&nbsp\;\n\nWhere:The B &amp\; O Rail Yard and Roundhouse is located at 2
 800 W. 3rd St. Cleveland OH 44113. For a map\, click here.\n\n&nbsp\;\n\nA
 ddition Information: B&amp\;O Railroad\n\n&nbsp\;\n\nField Trip Sponsor: T
 hank you\, Barb Cerrito for coordinating!\n\n&nbsp\;\n\nAdditional Questio
 ns: Email: Field Trips\n\n&nbsp\;\n\nPLEASE NOTE: As with all field trips\
 , CPS cannot be held responsible for any accidents or injuries - participa
 te at your own risk.\n\n&nbsp\;
END:VEVENT
BEGIN:VTIMEZONE
TZID:America/New_York
X-LIC-LOCATION:America/New_York
BEGIN:DAYLIGHT
DTSTART:20240310T030000
TZOFFSETFROM:-0500
TZOFFSETTO:-0400
TZNAME:EDT
END:DAYLIGHT
END:VTIMEZONE
END:VCALENDAR