BEGIN:VCALENDAR
VERSION:2.0
PRODID:-//wp-events-plugin.com//7.2.3.1//EN
TZID:America/New_York
X-WR-TIMEZONE:America/New_York
BEGIN:VEVENT
UID:898@clevelandphoto.org
DTSTART;TZID=America/New_York:20261211T193000
DTEND;TZID=America/New_York:20261211T210000
DTSTAMP:20260211T045532Z
URL:https://www.clevelandphoto.org/events/beverly-kenworthy-photographer-3
 /
SUMMARY:Beverly Kenworthy Photographer
DESCRIPTION:
END:VEVENT
BEGIN:VTIMEZONE
TZID:America/New_York
X-LIC-LOCATION:America/New_York
BEGIN:STANDARD
DTSTART:20261101T010000
TZOFFSETFROM:-0400
TZOFFSETTO:-0500
TZNAME:EST
END:STANDARD
END:VTIMEZONE
END:VCALENDAR