BEGIN:VCALENDAR
VERSION:2.0
PRODID:-//wp-events-plugin.com//7.2.3.1//EN
TZID:America/New_York
X-WR-TIMEZONE:America/New_York
BEGIN:VEVENT
UID:897@clevelandphoto.org
DTSTART;TZID=America/New_York:20261204T193000
DTEND;TZID=America/New_York:20261204T210000
DTSTAMP:20260220T214237Z
URL:https://www.clevelandphoto.org/events/beverly-kenworthy-photographer-2
 /
SUMMARY:Nicole Brennen Photographer  This will be Zoom.  The club will be o
 pen.
DESCRIPTION:\n 	\n\n\n\n\n\n\n\n\n\n\n\n\n\n\n&nbsp\;\n\nAbout the Presenta
 tion:\n\nIntro To Astro &amp\; The Effects of Light Pollution:  This begi
 nner-friendly presentation is designed to remove the intimidation from ast
 rophotography and make the night sky feel accessible to everyone. We’ll 
 break down the fundamentals of capturing the Milky Way\, the moon\, meteo
 r showers\, star trails\, and night landscapes\, focusing on simple camera
  settings\, lens choices\, and planning techniques that actually work in t
 he field.\n\nWe’ll also take a deeper look at light pollution\, what i
 t is\, how it affects your images\, and what you can do to help the issue.
  You’ll learn how to read light pollution maps and how to combat it.\n\n
 \n\nBio:\n\n\nBrennen is a professional landscape and astrophotographer\, 
 workshop leader\, and published author with two books available on Amazon\
 , and two more to be released in 2026. As a full-time instructor\, she spe
 cializes in teaching beginners how to confidently capture the night sky th
 rough hands-on guidance\, accessible techniques\, and real-world experienc
 e in the field.\n\nBrennen is also a passionate dark sky advocate\, worki
 ng to raise awareness about light pollution and inspire others to connect 
 more deeply with the stars. She leads retreats around the world\, with a t
 eaching style rooted in patience\, clarity\, and genuine enthusiasm for he
 lping photographers grow.\n\nWebsite is https://brennennicole.com\n\n\n\n\
 n\n\n\n\n\n \n\n\n\n\n\n\n\n\n\n\n\n\n\n\n\n\n\n
END:VEVENT
BEGIN:VTIMEZONE
TZID:America/New_York
X-LIC-LOCATION:America/New_York
BEGIN:STANDARD
DTSTART:20261101T010000
TZOFFSETFROM:-0400
TZOFFSETTO:-0500
TZNAME:EST
END:STANDARD
END:VTIMEZONE
END:VCALENDAR