BEGIN:VCALENDAR
VERSION:2.0
PRODID:-//wp-events-plugin.com//7.2.3.1//EN
TZID:America/New_York
X-WR-TIMEZONE:America/New_York
BEGIN:VEVENT
UID:350@clevelandphoto.org
DTSTART;TZID=America/New_York:20240614T193000
DTEND;TZID=America/New_York:20240614T210000
DTSTAMP:20240602T150908Z
URL:https://www.clevelandphoto.org/events/bev-kenworthy-presentation-in-pe
 rson-clubhouse-is-open/
SUMMARY:Bev Kenworthy Presentation Chasing Birds that Bite But Don’t Fly.
  In person clubhouse is open
DESCRIPTION:Chasing Birds that Bite But Don’t Fly\n \nMy main objective 
 on a trip to Patagonia\, Antarctica and the Falklands was penguins. I just
  love penguins- the waddling walk\, the braying like a donkey. I did not k
 now what to expect\, or how my own expectations of what a photo of a pengu
 in would look like. I will discuss the details of how difficult conditions
  were\, the settings used\, the gear I carried.\nAnd of course being bit b
 y a Magenellic penguin!\n\n\nA member of Cleveland Photographic Society si
 nce 2018\, where I serve as treasurer\, and administrate the mentoring pro
 gram and also am a mentor\, write for bi-annual magazine\, The Darkroom Do
 or. The recipient of the 2024 President’s Award. I moved to Ohio in 2022
 \, from New Jersey\, where I found the wetlands near Lake Erie my own litt
 le version of heaven. My husband and I enjoy travel in both the US and int
 ernationally.\nI currently shoot with a Nikon Z8 and Z7ii. The lenses I ca
 rried on that trip were the Z14-30\, f4\, Z24-200\, and Z180-600.\n\n&nbsp
 \;\n\n&nbsp\;\n\n
END:VEVENT
BEGIN:VTIMEZONE
TZID:America/New_York
X-LIC-LOCATION:America/New_York
BEGIN:DAYLIGHT
DTSTART:20240310T030000
TZOFFSETFROM:-0500
TZOFFSETTO:-0400
TZNAME:EDT
END:DAYLIGHT
END:VTIMEZONE
END:VCALENDAR