BEGIN:VCALENDAR
VERSION:2.0
PRODID:-//wp-events-plugin.com//7.2.3.1//EN
TZID:America/New_York
X-WR-TIMEZONE:America/New_York
BEGIN:VEVENT
UID:8@clevelandphoto.org
DTSTART:20230126T040000Z
DTEND:20230126T083000Z
DTSTAMP:20230111T105607Z
URL:https://www.clevelandphoto.org/events/beachwood-library-exhibit-inform
 ation/
SUMMARY:Beachwood Library Exhibit Information
DESCRIPTION:For all those who entered images for the Beachwood Library Exhi
 bit\, the submission deadline has passed but here are important dates and 
 information about the exhibit. To access the information sheet click here
END:VEVENT
END:VCALENDAR