BEGIN:VCALENDAR
VERSION:2.0
PRODID:-//wp-events-plugin.com//7.2.3.1//EN
TZID:America/New_York
X-WR-TIMEZONE:America/New_York
BEGIN:VEVENT
UID:891@clevelandphoto.org
DTSTART;TZID=America/New_York:20260821T193000
DTEND;TZID=America/New_York:20260821T210000
DTSTAMP:20260318T141857Z
URL:https://www.clevelandphoto.org/events/barbara-pennington-photographer/
SUMMARY:Barbara Pennington Photographer "An Extraordinary Photographic Jour
 ney" This will be in-person. The club will be open.
DESCRIPTION:An Extraordinary Photographic Journey\nBy: Barb Pennington\n&nb
 sp\;\nMy presentation explores a deeply personal and creative\njourney-one
  that transforms photography into powerful\nstorytelling through the creat
 ion of books. Centered on\ncapturing the lives of Extraordinary women\, me
 n\, and\nindividuals with Down syndrome\, the work goes beyond\nportraits 
 to reveal resilience\, individuality\, and untold\nstories.\nThrough a ble
 nd of images and narrative\, the\npresentation walks through the evolution
  of these\nprojects-from initial inspiration and building trust with\nsubj
 ects\, to photographing authentically\, and ultimately\nshaping cohesive b
 ooks that honor each person’s voice.\nIt highlights both the artistic pr
 ocess and the human\nconnections that make the work meaningful.\nAt its he
 art\, this journey is about using photography as a\ntool for inclusion\, a
 wareness\, and celebration-creating\nlasting visual stories that challenge
  perceptions and\nshine a light on lives that deserve to be seen\,\nunders
 tood\, and remembered
END:VEVENT
BEGIN:VTIMEZONE
TZID:America/New_York
X-LIC-LOCATION:America/New_York
BEGIN:DAYLIGHT
DTSTART:20260308T030000
TZOFFSETFROM:-0500
TZOFFSETTO:-0400
TZNAME:EDT
END:DAYLIGHT
END:VTIMEZONE
END:VCALENDAR