BEGIN:VCALENDAR
VERSION:2.0
PRODID:-//wp-events-plugin.com//7.2.3.1//EN
TZID:America/New_York
X-WR-TIMEZONE:America/New_York
BEGIN:VEVENT
UID:774@clevelandphoto.org
DTSTART;TZID=America/New_York:20251025T100000
DTEND;TZID=America/New_York:20251025T120000
DTSTAMP:20250902T184633Z
URL:https://www.clevelandphoto.org/events/back-to-the-wild-field-trip-4/
SUMMARY:Back To The Wild Field Trip Members Only
DESCRIPTION:Field Trip - Back To The Wild Members only October 25 2025 10am
  - 12pm  Join CPS for a return to one of our most popular field trip desti
 nation - Back To The Wild.   This field trip is open to CPS members ONLY 
 at this time with a limit of 45 slots available\, but advance sign-up and 
 payment are required.   PLEASE READ: If you would like to attend and it i
 s filled up\, please email to be added to the waitlist: fieldtrips@clevel
 andphoto.org   EACH MEMBER MAY PURCHASE OR SIGN-UP FOR ONLY ONE TICKET EX
 CEPT THOSE WITH A COUPLES MEMBERSHIP AND THESE TICKETS ARE NOT TRANSFERABL
 E.   If members don't fill the slots within a couple of weeks\, the field
  trip will be opened up to non-members to sell the remaining slots.   Bac
 k To The Wild is located at: 4504 Bardshar Rd\, Castalia\, OH 44824     
   Cost   Cost for this trip will be $20.00 per person. Registration wil
 l open up on September 1 2025  at 7pm. All registration must be done by O
 ctober 4 2025.   We are required to meet a minimum participation(15) in o
 rder to proceed. Please check the calendar on a frequent basis for any upd
 ates or changes.     ** Payment for this field trip MUST be made in adva
 nce through the payment  link. NO registration can be accepted on the day
  of the event. No refunds unless there is a waiting list and somebody can
  fill that spot.  PLEASE NOTE: you will receive a confirmation for your 
 purchase through the cps website but no PHYSICAL TICKETS will be issued. 
   Click here to purchaseclick the link below to purchase&nbsp\;https://ww
 w.clevelandphoto.org/programs/field-trips/back-to-the-wild/&nbsp\;This tri
 p will be held rain or shine.&nbsp\;On the day of the event\, you'll check
  in with us .Please visit the CPS calendar webpage for additional info&nbs
 p\;As with all field trips\, CPS cannot be held responsible for any accid
 ents or injuries - please enjoy yourself\, but participate at your own ris
 k.
LOCATION:https://goo.gl/maps/yQEbNCVjREbk4Hvz8?coh=178573&entry=tt
END:VEVENT
BEGIN:VTIMEZONE
TZID:America/New_York
X-LIC-LOCATION:America/New_York
BEGIN:DAYLIGHT
DTSTART:20250309T030000
TZOFFSETFROM:-0500
TZOFFSETTO:-0400
TZNAME:EDT
END:DAYLIGHT
END:VTIMEZONE
END:VCALENDAR