BEGIN:VCALENDAR
VERSION:2.0
PRODID:-//wp-events-plugin.com//7.2.3.1//EN
TZID:America/New_York
X-WR-TIMEZONE:America/New_York
BEGIN:VEVENT
UID:284@clevelandphoto.org
DTSTART;TZID=America/New_York:20240922T100000
DTEND;TZID=America/New_York:20240922T120000
DTSTAMP:20240104T234208Z
URL:https://www.clevelandphoto.org/events/back-to-the-wild-field-trip-3/
SUMMARY:Back To The Wild Field Trip
DESCRIPTION:\n\nOver the years\, field trips to Back To The Wild. A rehab
 ilitation center which has been some one of the most popular field trips o
 n the CPS calendar.\n\n&nbsp\;\n\nItinerary: Meet at Back to the Wild (a 6
 0 minute or longer drive from the Cleveland area) at 10 am.\nConsider a vi
 sit to the Marblehead Lighthouse\, African Wildlife Safari\, Liberty Air M
 useum\, Seneca Caverns or one of the other area attractions and make a day
  of it!\n\n&nbsp\;\n\nWho: An email will be sent about 60 days prior to th
 e event for club member ONLY sign-up\n\n&nbsp\;\n\nWhere: Back to the Wild
  is located at 4504 Bardshar Road\, Castalia\, OH 44824.\n\nFor a map: cli
 ck here\n\n&nbsp\;\n\nField Trip Sponsor: Thank you\, Elaine Joseph for co
 ordinating!\n\n&nbsp\;\n\nAdditional Questions: Email: Field Trips\n\n&nbs
 p\;\n\nPLEASE NOTE: As with all field trips\, CPS cannot be held responsib
 le for any accidents or injuries - participate at your own risk.\n\n&nbsp\
 ;
LOCATION:https://goo.gl/maps/yQEbNCVjREbk4Hvz8?coh=178573&entry=tt
END:VEVENT
BEGIN:VTIMEZONE
TZID:America/New_York
X-LIC-LOCATION:America/New_York
BEGIN:DAYLIGHT
DTSTART:20240310T030000
TZOFFSETFROM:-0500
TZOFFSETTO:-0400
TZNAME:EDT
END:DAYLIGHT
END:VTIMEZONE
END:VCALENDAR