BEGIN:VCALENDAR
VERSION:2.0
PRODID:-//wp-events-plugin.com//7.2.3.1//EN
TZID:America/New_York
X-WR-TIMEZONE:America/New_York
BEGIN:VEVENT
UID:283@clevelandphoto.org
DTSTART;TZID=America/New_York:20240519T100000
DTEND;TZID=America/New_York:20240519T120000
DTSTAMP:20240502T212734Z
URL:https://www.clevelandphoto.org/events/back-to-the-wild-field-trip-2/
SUMMARY:Field Trip - SOLD OUT! Back To The Wild
DESCRIPTION:\n\nTHIS TRIP IS SOLD OUT! IF YOU WOULD LIKE TO BE ADDED TO THE
  WAIT LIST\, PLEASE EMAIL below.  THIS IS ONLY OPEN TO MEMBERS ONLY!\n\n&
 nbsp\;\n\nOver the years\, field trips to Back To The Wild. A rehabilita
 tion center which has been some one of the most popular field trips on the
  CPS calendar.\n\n&nbsp\;\n\nItinerary: Meet at Back to the Wild (a 60 min
 ute or longer drive from the Cleveland area) at 10 am.\nConsider a visit t
 o the Marblehead Lighthouse\, African Wildlife Safari\, Liberty Air Museum
 \, Seneca Caverns or one of the other area attractions and make a day of i
 t!\n\n&nbsp\;\n\nWho: An email will be sent on March 26th\, 2024\n\n&nbsp\
 ;\n\nWhere: Back to the Wild is located at 4504 Bardshar Road\, Castalia\,
  OH 44824.\n\nFor a map: click here\n\n&nbsp\;\n\nField Trip Sponsor: Than
 k you\, Elaine Joseph for coordinating!\n\n&nbsp\;\n\nAdditional Questions
 : Email: Field Trips\n\n&nbsp\;\n\nPLEASE NOTE: As with all field trips\, 
 CPS cannot be held responsible for any accidents or injuries - participate
  at your own risk.\n\n&nbsp\;
LOCATION:https://goo.gl/maps/yQEbNCVjREbk4Hvz8?coh=178573&entry=tt
END:VEVENT
BEGIN:VTIMEZONE
TZID:America/New_York
X-LIC-LOCATION:America/New_York
BEGIN:DAYLIGHT
DTSTART:20240310T030000
TZOFFSETFROM:-0500
TZOFFSETTO:-0400
TZNAME:EDT
END:DAYLIGHT
END:VTIMEZONE
END:VCALENDAR