BEGIN:VCALENDAR
VERSION:2.0
PRODID:-//wp-events-plugin.com//7.2.3.1//EN
TZID:America/New_York
X-WR-TIMEZONE:America/New_York
BEGIN:VEVENT
UID:87@clevelandphoto.org
DTSTART;TZID=America/New_York:20230430T100000
DTEND;TZID=America/New_York:20230430T120000
DTSTAMP:20230405T155924Z
URL:https://www.clevelandphoto.org/events/b-o-roundhouse/
SUMMARY:B & O Roundhouse
DESCRIPTION:This trip is limited to CPS members and current Students ONLY. 
 (An email will be sent to Members and Students ONLY on April 5th. If you r
 eceived this email directly from CPS\, you are eligible to attend.)\n\nAdd
 itional questions?: fieldtrips@clevelandphoto.org\n\nPLEASE NOTE: As with
  all field trips\, CPS cannot be held responsible for any accidents or inj
 uries - participate at your own risk.\n\n&nbsp\;\n\n[caption id="attachmen
 t_5947" align="aligncenter" width="300"] B &amp\; O Roundhouse[/caption]
END:VEVENT
BEGIN:VTIMEZONE
TZID:America/New_York
X-LIC-LOCATION:America/New_York
BEGIN:DAYLIGHT
DTSTART:20230312T030000
TZOFFSETFROM:-0500
TZOFFSETTO:-0400
TZNAME:EDT
END:DAYLIGHT
END:VTIMEZONE
END:VCALENDAR