BEGIN:VCALENDAR
VERSION:2.0
PRODID:-//wp-events-plugin.com//7.2.3.1//EN
TZID:America/New_York
X-WR-TIMEZONE:America/New_York
BEGIN:VEVENT
UID:12@clevelandphoto.org
DTSTART;TZID=America/New_York:20230210T193000
DTEND;TZID=America/New_York:20230210T220000
DTSTAMP:20230208T004622Z
URL:https://www.clevelandphoto.org/events/b-competition-print/
SUMMARY:B Competition (Print)
DESCRIPTION:All new(er) CPS members and current students in good standing c
 an and are encouraged to enter these special Club competitions - designed 
 specifically for them!\n\nFor rules\, labels\, tutorials and more\, please
  visit the Competitions page of this website.\n\nAll are welcome to view
  the virtual results on the CPS YouTube Channel\, but only members can su
 bmit images.\n\nThe category for all 'B' competitions is Pictorial - an op
 en category without restrictions.\n\nEven if you don't enter\, you can lea
 rn a lot from hearing the judges' comments. All are welcome to attend\, bu
 t only newer members and students can submit images.
END:VEVENT
BEGIN:VTIMEZONE
TZID:America/New_York
X-LIC-LOCATION:America/New_York
BEGIN:STANDARD
DTSTART:20221106T010000
TZOFFSETFROM:-0400
TZOFFSETTO:-0500
TZNAME:EST
END:STANDARD
END:VTIMEZONE
END:VCALENDAR