BEGIN:VCALENDAR
VERSION:2.0
PRODID:-//wp-events-plugin.com//7.2.3.1//EN
TZID:America/New_York
X-WR-TIMEZONE:America/New_York
BEGIN:VEVENT
UID:72@clevelandphoto.org
DTSTART;TZID=America/New_York:20240209T193000
DTEND;TZID=America/New_York:20240209T193000
DTSTAMP:20230310T020136Z
URL:https://www.clevelandphoto.org/events/b-competition-print-3/
SUMMARY:"B" Competition (Print)
DESCRIPTION:All new(er) CPS members and current students in good standing c
 an and are encouraged to enter these special Club competitions - designed 
 specifically for them.\n\nFor rules\, labels\, tutorials and more\, please
  visit the Competitions page of this website.\n\nAll are welcome to view t
 he virtual results on the CPS YouTube Channel\, but only members can submi
 t images.\n\nThe category for all "B" competitions is Pictorial - an open 
 category without restrictions.\n\nEven if you don't enter\, you can learn 
 a lot from hearing the judge's comments. All are welcome to attend\, but o
 nly newer members and students can submit images.\n\nProjection Competitio
 ns: Images are submitted through ShutterScore and the deadline is usually 
 nine days before the competition but this will be posted on the calendar p
 age. If you have not used ShutterScore before\, sign in and create a free 
 account and then follow the directions.\n\nPrint Competitions: The deadlin
 e for prints is 7:30PM the night of the competition. Prints can be dropped
  off earlier at the CPS clubhouse\, whenever it is open\, in the front Gat
 hering Room in the box labeled for print competitions.
END:VEVENT
BEGIN:VTIMEZONE
TZID:America/New_York
X-LIC-LOCATION:America/New_York
BEGIN:STANDARD
DTSTART:20231105T010000
TZOFFSETFROM:-0400
TZOFFSETTO:-0500
TZNAME:EST
END:STANDARD
END:VTIMEZONE
END:VCALENDAR