BEGIN:VCALENDAR
VERSION:2.0
PRODID:-//wp-events-plugin.com//7.2.3.1//EN
TZID:America/New_York
X-WR-TIMEZONE:America/New_York
BEGIN:VEVENT
UID:5@clevelandphoto.org
DTSTART:20230105T000000Z
DTEND:20230105T180000Z
DTSTAMP:20221226T180612Z
URL:https://www.clevelandphoto.org/events/b-competition-images-now-availab
 le/
SUMMARY:B Competition Images Now Available
DESCRIPTION:The entries for the October 7\, 2022 B Competition are now avai
 lable. Unfortunately\, the title and author of the image are not viewable 
 for this competition due to a website problem. Note that these are all the
  entries and not just the winners. With the new CPS website\, coming soon\
 , we hope to be able to get these images up faster and in a more easily vi
 ewable display. To view the B Competition entries click here.
ATTACH;FMTTYPE=image/jpeg:https://www.clevelandphoto.org/wp-content/upload
 s/2022/12/10-Copie.jpg
END:VEVENT
END:VCALENDAR