BEGIN:VCALENDAR
VERSION:2.0
PRODID:-//wp-events-plugin.com//7.2.3.1//EN
TZID:America/New_York
X-WR-TIMEZONE:America/New_York
BEGIN:VEVENT
UID:257@clevelandphoto.org
DTSTART;TZID=America/New_York:20240419T193000
DTEND;TZID=America/New_York:20240419T220000
DTSTAMP:20230905T131954Z
URL:https://www.clevelandphoto.org/events/annual-meeting-and-election-of-o
 fficers/
SUMMARY:Annual Meeting and Election of Officers
DESCRIPTION:This is the meeting where the members elect a slate of officers
  for the 2024 - 2025 club year.
END:VEVENT
BEGIN:VTIMEZONE
TZID:America/New_York
X-LIC-LOCATION:America/New_York
BEGIN:DAYLIGHT
DTSTART:20240310T030000
TZOFFSETFROM:-0500
TZOFFSETTO:-0400
TZNAME:EDT
END:DAYLIGHT
END:VTIMEZONE
END:VCALENDAR