BEGIN:VCALENDAR
VERSION:2.0
PRODID:-//wp-events-plugin.com//7.2.3.1//EN
TZID:America/New_York
X-WR-TIMEZONE:America/New_York
BEGIN:VEVENT
UID:576@clevelandphoto.org
DTSTART;TZID=America/New_York:20250321T193000
DTEND;TZID=America/New_York:20250321T210000
DTSTAMP:20241218T191755Z
URL:https://www.clevelandphoto.org/events/alex-kilbee-photographer-zoom-pr
 esentation-club-will-be-open/
SUMMARY:My journey through black and white photography.  'Shades Of Vision'
  - Alex Kilbee Photographer - Zoom presentation - Club will be open
DESCRIPTION:\n\nAlex Kilbee has 30 years of experience as a professional aw
 ard-winning photographer.\nAfter studying at the prestigious Pretoria Tech
 nikon Photoschool in the mid 90's he has gone on to work in various genres
  in photography.\nHowever his first love is for portrait photography\, and
  from 2009 to 2020 ran Muse Portraits\, a multiple award-winning family po
 rtrait studio.\nDuring the pandemic whilst the studio was closed\, Alex tu
 rned his attention to YouTube and shared his passion for photography.\nSin
 ce November 2020 his channel\, The Photographic Eye\, has gained over 200\
 ,000 subscribers and the videos watched a collective 13\,500\,000 times.\n
 Rather than focus on the gear aspect of photography\, Alex prefers to insp
 ire photographers of all abilities to embrace and develop the artistic sid
 e of the art form.\n\nhttps://www.youtube.com/@ThePhotographicEye\n\nMy jo
 urney through black and white photography. \n'Shades Of Vision' \n
END:VEVENT
BEGIN:VTIMEZONE
TZID:America/New_York
X-LIC-LOCATION:America/New_York
BEGIN:DAYLIGHT
DTSTART:20250309T030000
TZOFFSETFROM:-0500
TZOFFSETTO:-0400
TZNAME:EDT
END:DAYLIGHT
END:VTIMEZONE
END:VCALENDAR