BEGIN:VCALENDAR
VERSION:2.0
PRODID:-//wp-events-plugin.com//7.2.3.1//EN
TZID:America/New_York
X-WR-TIMEZONE:America/New_York
BEGIN:VEVENT
UID:118@clevelandphoto.org
DTSTART;TZID=America/New_York:20230623T193000
DTEND;TZID=America/New_York:20230623T193000
DTSTAMP:20230511T160533Z
URL:https://www.clevelandphoto.org/events/ai-photography/
SUMMARY:AI Photography
DESCRIPTION:Club members John Paganini and Richard Ader will discuss AI pho
 tography including how to use some of the most popular software\, how to g
 enerate images and more. We will also get into the implications of this ne
 w technology for CPS going forward. Come and be a part of the conversation
  about AI and how it should fit in with CPS.
END:VEVENT
BEGIN:VTIMEZONE
TZID:America/New_York
X-LIC-LOCATION:America/New_York
BEGIN:DAYLIGHT
DTSTART:20230312T030000
TZOFFSETFROM:-0500
TZOFFSETTO:-0400
TZNAME:EDT
END:DAYLIGHT
END:VTIMEZONE
END:VCALENDAR