BEGIN:VCALENDAR
VERSION:2.0
PRODID:-//wp-events-plugin.com//7.2.3.1//EN
TZID:America/New_York
X-WR-TIMEZONE:America/New_York
BEGIN:VEVENT
UID:711@clevelandphoto.org
DTSTART;TZID=America/New_York:20250605T193000
DTEND;TZID=America/New_York:20250605T220000
DTSTAMP:20250518T183629Z
URL:https://www.clevelandphoto.org/events/730-pm-sig-meeting-overseas-trav
 el-photography-made-cheap/
SUMMARY:7:30 PM - SIG Meeting -Overseas Travel Photography Made Cheap
DESCRIPTION:Join us when our own David Busch will give advice from his and 
 Mrs. Dave’s extensive experience on who\, what\, where\, and how to take
  travel photos spending insanely minimal amounts of money.  For example\,
  a $700 round trip to New Zealand(this March)\, a $350 round trip to Rome 
 (last December)\, and a $400 round trip to Venice are just some examples. 
 For lodging\, add in an incredible two-bedroom apartment for $100 a night.
  Hear many more examples at our SIG meeting at 7:30 PM on June 5th.
END:VEVENT
BEGIN:VTIMEZONE
TZID:America/New_York
X-LIC-LOCATION:America/New_York
BEGIN:DAYLIGHT
DTSTART:20250309T030000
TZOFFSETFROM:-0500
TZOFFSETTO:-0400
TZNAME:EDT
END:DAYLIGHT
END:VTIMEZONE
END:VCALENDAR