BEGIN:VCALENDAR
VERSION:2.0
PRODID:-//wp-events-plugin.com//7.2.3.1//EN
TZID:America/New_York
X-WR-TIMEZONE:America/New_York
BEGIN:VEVENT
UID:532@clevelandphoto.org
DTSTART;TZID=America/New_York:20241205T193000
DTEND;TZID=America/New_York:20241205T223000
DTSTAMP:20241202T234719Z
URL:https://www.clevelandphoto.org/events/730-pm-sig-group-meeting-street-
 photography/
SUMMARY:7:30 PM - SIG Group Meeting - Street Photography
DESCRIPTION:David Busch will discuss street photography. It should be a ver
 y interesting evening and as always\, after the meeting we will break into
  camera specific groups to discuss individual camera problems and tips.
END:VEVENT
BEGIN:VTIMEZONE
TZID:America/New_York
X-LIC-LOCATION:America/New_York
BEGIN:STANDARD
DTSTART:20241103T010000
TZOFFSETFROM:-0400
TZOFFSETTO:-0500
TZNAME:EST
END:STANDARD
END:VTIMEZONE
END:VCALENDAR