BEGIN:VCALENDAR
VERSION:2.0
PRODID:-//wp-events-plugin.com//7.2.3.1//EN
TZID:America/New_York
X-WR-TIMEZONE:America/New_York
BEGIN:VEVENT
UID:125@clevelandphoto.org
DTSTART;TZID=America/New_York:20230521T100000
DTEND;TZID=America/New_York:20230521T120000
DTSTAMP:20230531T210217Z
URL:https://www.clevelandphoto.org/events/6767/
SUMMARY:Back To The Wild Field Trip
DESCRIPTION:\n\nOver the years\, field trips to Back To The Wild. A rehab
 ilitation center which has been some one of the most popular field trips o
 n the CPS calendar.\n\nItinerary: Meet at Back to the Wild (a 60 minute or
  longer drive from the Cleveland area) at 10 am.\nConsider a visit to the 
 Marblehead Lighthouse\, African Wildlife Safari\, Liberty Air Museum\, Sen
 eca Caverns or one of the other area attractions and make a day of it!\n\n
 &nbsp\;\n\nWhere: Back to the Wild is located at 4504 Bardshar Road\, Cast
 alia\, OH 44824.\n\nFor a map: click here\n\n&nbsp\;\n\nField Trip Sponsor
 : Barb Cerrito - many thanks!\n\n&nbsp\;\n\nAdditional Questions: Email: F
 ield Trips\n\n&nbsp\;\n\nPLEASE NOTE: As with all field trips\, CPS cannot
  be held responsible for any accidents or injuries - participate at your o
 wn risk.\n\n&nbsp\;
LOCATION:https://goo.gl/maps/yQEbNCVjREbk4Hvz8?coh=178573&entry=tt
END:VEVENT
BEGIN:VTIMEZONE
TZID:America/New_York
X-LIC-LOCATION:America/New_York
BEGIN:DAYLIGHT
DTSTART:20230312T030000
TZOFFSETFROM:-0500
TZOFFSETTO:-0400
TZNAME:EDT
END:DAYLIGHT
END:VTIMEZONE
END:VCALENDAR